BEGIN:VCALENDAR
VERSION:2.0
PRODID:-//La course d&#039;orientation dans le Forez - ECPv6.15.13//NONSGML v1.0//EN
CALSCALE:GREGORIAN
METHOD:PUBLISH
X-WR-CALNAME:La course d&#039;orientation dans le Forez
X-ORIGINAL-URL:https://www.boussole-en-forez.fr
X-WR-CALDESC:Évènements pour La course d&#039;orientation dans le Forez
REFRESH-INTERVAL;VALUE=DURATION:PT1H
X-Robots-Tag:noindex
X-PUBLISHED-TTL:PT1H
BEGIN:VTIMEZONE
TZID:Europe/Paris
BEGIN:DAYLIGHT
TZOFFSETFROM:+0100
TZOFFSETTO:+0200
TZNAME:CEST
DTSTART:20250330T010000
END:DAYLIGHT
BEGIN:STANDARD
TZOFFSETFROM:+0200
TZOFFSETTO:+0100
TZNAME:CET
DTSTART:20251026T010000
END:STANDARD
BEGIN:DAYLIGHT
TZOFFSETFROM:+0100
TZOFFSETTO:+0200
TZNAME:CEST
DTSTART:20260329T010000
END:DAYLIGHT
BEGIN:STANDARD
TZOFFSETFROM:+0200
TZOFFSETTO:+0100
TZNAME:CET
DTSTART:20261025T010000
END:STANDARD
BEGIN:DAYLIGHT
TZOFFSETFROM:+0100
TZOFFSETTO:+0200
TZNAME:CEST
DTSTART:20270328T010000
END:DAYLIGHT
BEGIN:STANDARD
TZOFFSETFROM:+0200
TZOFFSETTO:+0100
TZNAME:CET
DTSTART:20271031T010000
END:STANDARD
END:VTIMEZONE
BEGIN:VEVENT
DTSTART;TZID=Europe/Paris:20260423T183000
DTEND;TZID=Europe/Paris:20260423T200000
DTSTAMP:20260423T012633
CREATED:20251207T095424Z
LAST-MODIFIED:20251207T095424Z
UID:6388-1776969000-1776974400@www.boussole-en-forez.fr
SUMMARY:Entrainement : espace des Associations (Moingt)
DESCRIPTION:Entrainement : espace des Associations (Moingt) \nAlternance\, simulation\, sprint et physique. \nTOUS les jeudi hors vacances
URL:https://www.boussole-en-forez.fr/event/entrainement-espace-des-associations-moingt-11/
CATEGORIES:Entrainements
END:VEVENT
END:VCALENDAR